BEGIN:VCALENDAR
VERSION:2.0
PRODID:-//Länsi-Suomen Pelastusalan liitto - ECPv6.15.20//NONSGML v1.0//EN
CALSCALE:GREGORIAN
METHOD:PUBLISH
X-WR-CALNAME:Länsi-Suomen Pelastusalan liitto
X-ORIGINAL-URL:https://www.lspel.fi
X-WR-CALDESC:Tapahtumat Länsi-Suomen Pelastusalan liitto
REFRESH-INTERVAL;VALUE=DURATION:PT1H
X-Robots-Tag:noindex
X-PUBLISHED-TTL:PT1H
BEGIN:VTIMEZONE
TZID:Europe/Helsinki
BEGIN:DAYLIGHT
TZOFFSETFROM:+0200
TZOFFSETTO:+0300
TZNAME:EEST
DTSTART:20230326T010000
END:DAYLIGHT
BEGIN:STANDARD
TZOFFSETFROM:+0300
TZOFFSETTO:+0200
TZNAME:EET
DTSTART:20231029T010000
END:STANDARD
BEGIN:DAYLIGHT
TZOFFSETFROM:+0200
TZOFFSETTO:+0300
TZNAME:EEST
DTSTART:20240331T010000
END:DAYLIGHT
BEGIN:STANDARD
TZOFFSETFROM:+0300
TZOFFSETTO:+0200
TZNAME:EET
DTSTART:20241027T010000
END:STANDARD
BEGIN:DAYLIGHT
TZOFFSETFROM:+0200
TZOFFSETTO:+0300
TZNAME:EEST
DTSTART:20250330T010000
END:DAYLIGHT
BEGIN:STANDARD
TZOFFSETFROM:+0300
TZOFFSETTO:+0200
TZNAME:EET
DTSTART:20251026T010000
END:STANDARD
END:VTIMEZONE
BEGIN:VEVENT
DTSTART;VALUE=DATE:20240802
DTEND;VALUE=DATE:20240805
DTSTAMP:20260420T191616
CREATED:20240516T112433Z
LAST-MODIFIED:20240605T070023Z
UID:10000015-1722556800-1722815999@www.lspel.fi
SUMMARY:Häly varattu
DESCRIPTION:
URL:https://www.lspel.fi/tapahtuma/haly-varattu-2/
CATEGORIES:Häly-hahmo
END:VEVENT
BEGIN:VEVENT
DTSTART;VALUE=DATE:20240809
DTEND;VALUE=DATE:20240812
DTSTAMP:20260420T191616
CREATED:20240516T112511Z
LAST-MODIFIED:20240516T123520Z
UID:10000016-1723161600-1723420799@www.lspel.fi
SUMMARY:Häly varattu
DESCRIPTION:
URL:https://www.lspel.fi/tapahtuma/haly-varattu-3/
CATEGORIES:Häly-hahmo
END:VEVENT
END:VCALENDAR