BEGIN:VCALENDAR
VERSION:2.0
PRODID:-//Länsi-Suomen Pelastusalan liitto - ECPv6.15.20//NONSGML v1.0//EN
CALSCALE:GREGORIAN
METHOD:PUBLISH
X-ORIGINAL-URL:https://www.lspel.fi
X-WR-CALDESC:Tapahtumat Länsi-Suomen Pelastusalan liitto
REFRESH-INTERVAL;VALUE=DURATION:PT1H
X-Robots-Tag:noindex
X-PUBLISHED-TTL:PT1H
BEGIN:VTIMEZONE
TZID:Europe/Helsinki
BEGIN:DAYLIGHT
TZOFFSETFROM:+0200
TZOFFSETTO:+0300
TZNAME:EEST
DTSTART:20230326T010000
END:DAYLIGHT
BEGIN:STANDARD
TZOFFSETFROM:+0300
TZOFFSETTO:+0200
TZNAME:EET
DTSTART:20231029T010000
END:STANDARD
BEGIN:DAYLIGHT
TZOFFSETFROM:+0200
TZOFFSETTO:+0300
TZNAME:EEST
DTSTART:20240331T010000
END:DAYLIGHT
BEGIN:STANDARD
TZOFFSETFROM:+0300
TZOFFSETTO:+0200
TZNAME:EET
DTSTART:20241027T010000
END:STANDARD
BEGIN:DAYLIGHT
TZOFFSETFROM:+0200
TZOFFSETTO:+0300
TZNAME:EEST
DTSTART:20250330T010000
END:DAYLIGHT
BEGIN:STANDARD
TZOFFSETFROM:+0300
TZOFFSETTO:+0200
TZNAME:EET
DTSTART:20251026T010000
END:STANDARD
END:VTIMEZONE
BEGIN:VEVENT
DTSTART;VALUE=DATE:20240607
DTEND;VALUE=DATE:20240610
DTSTAMP:20260420T162856
CREATED:20240514T140524Z
LAST-MODIFIED:20240514T140524Z
UID:10000010-1717718400-1717977599@www.lspel.fi
SUMMARY:Porin alueleiri
DESCRIPTION:
URL:https://www.lspel.fi/tapahtuma/porin-alueleiri/
LOCATION:Kaasmarkku
CATEGORIES:Palokuntanuorisotyö
ATTACH;FMTTYPE=image/jpeg:https://www.lspel.fi/wp-content/uploads/2023/12/2C2A5365-2-scaled-e1707313460567.jpg
END:VEVENT
BEGIN:VEVENT
DTSTART;VALUE=DATE:20240607
DTEND;VALUE=DATE:20240610
DTSTAMP:20260420T162856
CREATED:20240514T140700Z
LAST-MODIFIED:20240514T140700Z
UID:10000011-1717718400-1717977599@www.lspel.fi
SUMMARY:Salon ja Turun alueleiri
DESCRIPTION:
URL:https://www.lspel.fi/tapahtuma/salon-ja-turun-alueleiri/
LOCATION:Koski TL
CATEGORIES:Palokuntanuorisotyö
ATTACH;FMTTYPE=image/jpeg:https://www.lspel.fi/wp-content/uploads/2023/10/2C2A8410-edited-scaled.jpg
END:VEVENT
BEGIN:VEVENT
DTSTART;VALUE=DATE:20240607
DTEND;VALUE=DATE:20240610
DTSTAMP:20260420T162856
CREATED:20240516T112145Z
LAST-MODIFIED:20240516T112231Z
UID:10000013-1717718400-1717977599@www.lspel.fi
SUMMARY:Häly Salon & Turun alueen alueleirillä
DESCRIPTION:
URL:https://www.lspel.fi/tapahtuma/haly-salon-turun-alueen-alueleirilla/
CATEGORIES:Häly-hahmo
END:VEVENT
BEGIN:VEVENT
DTSTART;VALUE=DATE:20240615
DTEND;VALUE=DATE:20240616
DTSTAMP:20260420T162856
CREATED:20240516T112351Z
LAST-MODIFIED:20240516T112351Z
UID:10000014-1718409600-1718495999@www.lspel.fi
SUMMARY:Häly varattu
DESCRIPTION:
URL:https://www.lspel.fi/tapahtuma/haly-varattu/
CATEGORIES:Häly-hahmo
END:VEVENT
BEGIN:VEVENT
DTSTART;TZID=Europe/Helsinki:20240627T130000
DTEND;TZID=Europe/Helsinki:20240627T140000
DTSTAMP:20260420T162856
CREATED:20240514T140308Z
LAST-MODIFIED:20240517T064458Z
UID:10000009-1719493200-1719496800@www.lspel.fi
SUMMARY:Suomi Areena paneeli
DESCRIPTION:Länsi-Suomen Pelastusalan Liitto (LSPeL) on mukana virallisena tilaisuudenjärjestäjänä SuomiAreenassa tulevana kesänä Porissa. LSPeL paneelikeskustelu järjestetään torstaina 27.6.2024 klo 13-13.45. Kauppakeskus Puuvillan SuomiAreenan lavalla. Keskustelu striimataan myös MTV Katsomoon. Paneelikeskustelussa pureudutaan pelastusalan ajankohtaisiin aiheisiin mielenkiintoisten panelistien kanssa.
URL:https://www.lspel.fi/tapahtuma/suomi-areena-paneeli/
LOCATION:Puuvilla lava\, Pori
CATEGORIES:LSPeL
ATTACH;FMTTYPE=image/jpeg:https://www.lspel.fi/wp-content/uploads/2024/05/SA_2024_OlemmeMukana-3.jpg
END:VEVENT
BEGIN:VEVENT
DTSTART;VALUE=DATE:20240630
DTEND;VALUE=DATE:20240706
DTSTAMP:20260420T162856
CREATED:20240502T053333Z
LAST-MODIFIED:20240514T133641Z
UID:10000001-1719705600-1720223999@www.lspel.fi
SUMMARY:Tulinummi-24 palokuntanuorisoleiri
DESCRIPTION:
URL:https://www.lspel.fi/tapahtuma/tulinummi-24leiri/
LOCATION:Moisiontie 16\, Nousiainen
CATEGORIES:Palokuntanuorisotyö
ATTACH;FMTTYPE=image/png:https://www.lspel.fi/wp-content/uploads/2024/05/1.png
END:VEVENT
END:VCALENDAR