BEGIN:VCALENDAR
VERSION:2.0
PRODID:-//Länsi-Suomen Pelastusalan liitto - ECPv6.15.20//NONSGML v1.0//EN
CALSCALE:GREGORIAN
METHOD:PUBLISH
X-ORIGINAL-URL:https://www.lspel.fi
X-WR-CALDESC:Tapahtumat Länsi-Suomen Pelastusalan liitto
REFRESH-INTERVAL;VALUE=DURATION:PT1H
X-Robots-Tag:noindex
X-PUBLISHED-TTL:PT1H
BEGIN:VTIMEZONE
TZID:Europe/Helsinki
BEGIN:DAYLIGHT
TZOFFSETFROM:+0200
TZOFFSETTO:+0300
TZNAME:EEST
DTSTART:20230326T010000
END:DAYLIGHT
BEGIN:STANDARD
TZOFFSETFROM:+0300
TZOFFSETTO:+0200
TZNAME:EET
DTSTART:20231029T010000
END:STANDARD
BEGIN:DAYLIGHT
TZOFFSETFROM:+0200
TZOFFSETTO:+0300
TZNAME:EEST
DTSTART:20240331T010000
END:DAYLIGHT
BEGIN:STANDARD
TZOFFSETFROM:+0300
TZOFFSETTO:+0200
TZNAME:EET
DTSTART:20241027T010000
END:STANDARD
BEGIN:DAYLIGHT
TZOFFSETFROM:+0200
TZOFFSETTO:+0300
TZNAME:EEST
DTSTART:20250330T010000
END:DAYLIGHT
BEGIN:STANDARD
TZOFFSETFROM:+0300
TZOFFSETTO:+0200
TZNAME:EET
DTSTART:20251026T010000
END:STANDARD
END:VTIMEZONE
BEGIN:VEVENT
DTSTART;TZID=Europe/Helsinki:20240627T130000
DTEND;TZID=Europe/Helsinki:20240627T140000
DTSTAMP:20260419T193737
CREATED:20240514T140308Z
LAST-MODIFIED:20240517T064458Z
UID:10000009-1719493200-1719496800@www.lspel.fi
SUMMARY:Suomi Areena paneeli
DESCRIPTION:Länsi-Suomen Pelastusalan Liitto (LSPeL) on mukana virallisena tilaisuudenjärjestäjänä SuomiAreenassa tulevana kesänä Porissa. LSPeL paneelikeskustelu järjestetään torstaina 27.6.2024 klo 13-13.45. Kauppakeskus Puuvillan SuomiAreenan lavalla. Keskustelu striimataan myös MTV Katsomoon. Paneelikeskustelussa pureudutaan pelastusalan ajankohtaisiin aiheisiin mielenkiintoisten panelistien kanssa.
URL:https://www.lspel.fi/tapahtuma/suomi-areena-paneeli/
LOCATION:Puuvilla lava\, Pori
CATEGORIES:LSPeL
ATTACH;FMTTYPE=image/jpeg:https://www.lspel.fi/wp-content/uploads/2024/05/SA_2024_OlemmeMukana-3.jpg
END:VEVENT
END:VCALENDAR